BEGIN:VCALENDAR
VERSION:2.0
PRODID:icalendar-ruby
CALSCALE:GREGORIAN
METHOD:PUBLISH
BEGIN:VEVENT
DTSTAMP:20260423T220015Z
UID:68-1109386@sonrisecbc.ca
DTSTART:20260925T210000Z
DTEND:20260925T230000Z
CLASS:PUBLIC
CREATED:20260423T132145
DESCRIPTION:Join us as we seek to make the gospel of Jesus Christ know to o
 ur city. Through door-knocking\, street preaching\, and handing out biblic
 al resources\, we hope to see lost people saved to Christ. \nIf you plan 
 to attend\, our group meets at the church for 3pm.  
LAST-MODIFIED:20260423T132145
LOCATION:
SUMMARY:Friday Evangelism 
URL;VALUE=URI:https://www.sonrisecbc.ca/events/friday-evangelism/2026-09-25
ATTACH;FILENAME=Friday Evangelism (small file).jpg;FMTTYPE=image/jpeg:https
 ://dq5pwpg1q8ru0.cloudfront.net/2025/05/20/16/53/50/6423950e-fe8b-461a-a99
 d-4af7c260bb95/Friday%20Evangelism%20(small%20file).jpg
END:VEVENT
END:VCALENDAR
